BEGIN:VCALENDAR
VERSION:2.0
PRODID:-//ChamberMaster//Event Calendar 2.0//EN
METHOD:PUBLISH
X-PUBLISHED-TTL:P1H
REFRESH-INTERVAL:P1H
CALSCALE:GREGORIAN
BEGIN:VTIMEZONE
TZID:America/Los_Angeles
BEGIN:DAYLIGHT
RRULE:FREQ=YEARLY;BYMONTH=3;BYDAY=2SU
DTSTART:20070101T000000
TZOFFSETFROM:-0800
TZOFFSETTO:-0700
TZNAME:Pacific Daylight Time
END:DAYLIGHT
BEGIN:STANDARD
RRULE:FREQ=YEARLY;BYMONTH=11;BYDAY=1SU
DTSTART:20070101T000000
TZOFFSETFROM:-0700
TZOFFSETTO:-0800
TZNAME:Pacific Standard Time
END:STANDARD
END:VTIMEZONE
BEGIN:VEVENT
DTSTART;TZID=America/Los_Angeles:20260515T080000
DTEND;TZID=America/Los_Angeles:20260515T170000
X-MICROSOFT-CDO-ALLDAYEVENT:FALSE
SUMMARY:Partner Events - WSU Viticulture Intern Boot Camp
DESCRIPTION:This all-day workshop is targeted to provide a baseline level of knowledge to company interns specializing in activities or training related to Washington State viticulture. The idea is to train interns in: 1) What Happens Throughout a WA Growing Season\, 2) Pest and Disease Scouting\, 3) Cold Damage and Yield Estimation\, 4) Nutrient Disorder Identification and Understanding Fertilizers\, and 5) General Internship Planning and Organization. Participants will have both in-class and in-vineyard experiences\, and will also begin to develop a resource guide they can reference throughout their internship and beyond. Target Audience Individuals classified as "interns" in a Washington State Viticulture industry-related field (vineyard management\, crop consulting\, etc). Interns are typically early-career individuals\, working in a mentored position for a professional or a company. Most interns are often students enrolled in formal post-secondary education in viticulture or a related field. This workshop does assume a basic level of knowledge / understanding of horticulture / viticulture / farming. Learning Objectives After participating in this boot camp\, interns should be able to: Understand the timing of major viticulture activities in Washington State vineyards. Identify major pests and diseases in Washington Viticulture\, and how to best scout and sample for them.Identify cold damage\, and understand how and when to best estimate yield in vineyards. Distinguish between most major nutrient deficiencies\, read a soil and tissue test report\, and understand basic fertilizer calculations. Effectively plan out their internship reports\, and learn how to be proactive in engaging their internship mentors. Registration is limited to 25 people\, with preference given to those completing an internship at a Washington\, Oregon\, or Idaho viticulture-related business. Please see the list of topics in the agenda below for a better understanding of the day's events. Registration URL: Registration opens March 9\, 2026 Registration fee: $70 Pre-registration is required\, and there is an attendance cap to facilitate participant engagement. Registration will close on May 8\, 2026. The fees for this workshop cover all workshop handouts\, and printed extension publications. Lunch and Snacks have been generously sponsored by Wilbur Ellis. Anticipated Agenda   Friday\, May 15\, 2026 Morning: 8:00   Welcome 8:15   Round Table Introduction 8:30   Module 1   A Viticulture Year in Review 9:00   Module 2   Pest and Disease Scouting   Classroom 9:45   Break 10:00   Module 2   Continued 10:45   Transition to Field 11:00   Module 2   Pest and Disease Scouting Activity   Vineyard 12:00   Transition to Classroom / Lunch Afternoon: 1:00   Module 3   Cold Damage Assessment and Yield Estimation   Classroom 1:30   Transition to Field 1:45   Module 3   Yield Estimation Activity   Vineyard 2:15   Return to Classroom / break 2:45   Module 4   Vine Nutrition and Nutrient Disorders   Classroom 3:15   Module 4   Interpreting Soil and Tissue Tests   Activity 4:15   Module 5   Professional Development and Optimizing Your Internship Experience   Classroom4:45 - Session Wrap-up Anyone attending this program who requires auxiliary aids or services\, please contact Michelle Moyer at 509-786-9234 or michelle.moyer@wsu.edu. Extension programs and employment are available to all without discrimination. Evidence of noncompliance may be reported through your local Extension office. https://extension.wsu.edu/about-extension/extension-is-for-everyone/This event listing is provided as a courtesy for industry education purposes only\; Washington Winegrowers is not responsible for the accuracy of the information or for any changes to the event\, and all questions should be directed to the event host.
X-ALT-DESC;FMTTYPE=text/html:<!DOCTYPE html><html><head><title></title></head><body aria-disabled="false"><p>This all-day workshop is targeted to provide a baseline level of knowledge to company interns specializing in activities or training related to Washington State viticulture. The idea is to train interns in: 1) What Happens Throughout a WA Growing Season\, 2) Pest and Disease Scouting\, 3) Cold Damage and Yield Estimation\, 4) Nutrient Disorder Identification and Understanding Fertilizers\, and 5) General Internship Planning and Organization. Participants will have both in-class and in-vineyard experiences\, and will also begin to develop a resource guide they can reference throughout their internship and beyond.&nbsp\;</p><p><strong fr-original-style="" style="font-weight: 700\;">Target Audience&nbsp\;</strong>Individuals classified as &ldquo\;interns&rdquo\; in a Washington State Viticulture industry-related field (vineyard management\, crop consulting\, etc). Interns are typically early-career individuals\, working in a mentored position for a professional or a company. Most interns are often students enrolled in formal post-secondary education in viticulture or a related field. <strong fr-original-style="" style="font-weight: 700\;">This workshop does assume a basic level of knowledge / understanding of horticulture / viticulture / farming.&nbsp\;</strong></p><p><strong fr-original-style="" style="font-weight: 700\;">Learning Objectives</strong> After participating in this boot camp\, <strong fr-original-style="" style="font-weight: 700\;">interns</strong> should be able to:&nbsp\;</p><ul fr-original-style="" style="list-style-position: inside\;"><li>Understand the timing of major viticulture activities in Washington State vineyards.&nbsp\;</li><li>Identify major pests and diseases in Washington Viticulture\, and how to best scout and sample for them.</li><li>Identify cold damage\, and understand how and when to best estimate yield in vineyards.&nbsp\;</li><li>Distinguish between most major nutrient deficiencies\, read a soil and tissue test report\, and understand basic fertilizer calculations.&nbsp\;</li><li>Effectively plan out their internship reports\, and learn how to be proactive in engaging their internship mentors.&nbsp\;</li></ul><p><strong fr-original-style="" style="font-weight: 700\;">Registration</strong> is limited to 25 people\, with preference given to those completing an internship at a Washington\, Oregon\, or Idaho viticulture-related business. Please see the list of topics in the agenda below for a better understanding of the day&rsquo\;s events.&nbsp\;</p><p>Registration URL: <a fr-original-style="" href="https://www.eventbrite.com/e/2026-viticulture-intern-boot-camp-tickets-1983556973303?aff=oddtdtcreator" rel="noopener noreferrer" style="user-select: auto\;" target="_blank">Registration opens March 9\, 2026</a>&nbsp\;</p><p>Registration fee: $70&nbsp\;</p><p>Pre-registration is required\, and there is an attendance cap to facilitate participant engagement. Registration will close on May 8\, 2026.&nbsp\;</p><p>The fees for this workshop cover all workshop handouts\, and printed extension publications.&nbsp\;</p><p>Lunch and Snacks have been generously sponsored by <strong fr-original-style="" style="font-weight: 700\;">Wilbur Ellis</strong>.&nbsp\;</p><p>Anticipated Agenda &ndash\; Friday\, May 15\, 2026&nbsp\;</p><p>Morning:&nbsp\;</p><ul fr-original-style="" style="list-style-position: inside\;"><li>8:00 &ndash\; Welcome&nbsp\;</li><li>8:15 &ndash\; Round Table Introduction&nbsp\;</li><li>8:30 &ndash\; Module 1 &ndash\; A Viticulture Year in Review&nbsp\;</li><li>9:00 &ndash\; Module 2 &ndash\; Pest and Disease Scouting &ndash\; Classroom 9:45 &ndash\; Break&nbsp\;</li><li>10:00 &ndash\; Module 2 &ndash\; Continued&nbsp\;</li><li>10:45 &ndash\; Transition to Field&nbsp\;</li><li>11:00 &ndash\; Module 2 &ndash\; Pest and Disease Scouting Activity &ndash\; Vineyard&nbsp\;</li><li>12:00 &ndash\; Transition to Classroom / Lunch&nbsp\;</li></ul><p>Afternoon:&nbsp\;</p><ul fr-original-style="" style="list-style-position: inside\;"><li>1:00 &ndash\; Module 3 &ndash\; Cold Damage Assessment and Yield Estimation &ndash\; Classroom&nbsp\;</li><li>1:30 &ndash\; Transition to Field&nbsp\;</li><li>1:45 &ndash\; Module 3 &ndash\; Yield Estimation Activity &ndash\; Vineyard&nbsp\;</li><li>2:15 &ndash\; Return to Classroom / break&nbsp\;</li><li>2:45 &ndash\; Module 4 &ndash\; Vine Nutrition and Nutrient Disorders &ndash\; Classroom&nbsp\;</li><li>3:15 &ndash\; Module 4 &ndash\; Interpreting Soil and Tissue Tests &ndash\; Activity&nbsp\;</li><li>4:15 &ndash\; Module 5 &ndash\; Professional Development and Optimizing Your Internship Experience &ndash\; Classroom</li><li>4:45 - Session Wrap-up&nbsp\;</li></ul><p>Anyone attending this program who requires auxiliary aids or services\, please contact Michelle Moyer at 509-786-9234 or michelle.moyer@wsu.edu. Extension programs and employment are available to all without discrimination. Evidence of noncompliance may be reported through your local Extension office.</p><p>&nbsp\;<a fr-original-style="" href="https://extension.wsu.edu/about-extension/extension-is-for-everyone/" style="user-select: auto\;">https://extension.wsu.edu/about-extension/extension-is-for-everyone/</a></p><p><em style="box-sizing: border-box\; color: rgb(17\, 17\, 17)\; font-family: Figtree\, sans-serif\; font-size: 16px\; font-variant-ligatures: normal\; font-variant-caps: normal\; font-weight: 400\; letter-spacing: normal\; orphans: 2\; text-align: start\; text-indent: 0px\; text-transform: none\; widows: 2\; word-spacing: 0px\; -webkit-text-stroke-width: 0px\; white-space: normal\; text-decoration-thickness: initial\; text-decoration-style: initial\; text-decoration-color: initial\; background-color: rgb(255\, 255\, 255)\;">This event listing is provided as a courtesy for industry education purposes only\; Washington Winegrowers is not responsible for the accuracy of the information or for any changes to the event\, and all questions should be directed to the event host.</em> </p></body></html>
LOCATION:24106 N. Bunn Rd Prosser 99350
UID:e.3762.1440105
SEQUENCE:3
DTSTAMP:20260423T103213Z
URL:https://members.wawinegrowers.org/event-calendar/Details/partner-events-wsu-viticulture-intern-boot-camp-1704801?sourceTypeId=Hub
END:VEVENT
END:VCALENDAR
